BEGIN:VCALENDAR
PRODID:-//AT Content Types//AT Event//EN
VERSION:1.0
BEGIN:VEVENT
DTSTART:20091219T090000Z
DTEND:20091219T140000Z
DCREATED:20091217T223406Z
UID:ATEvent-af2f3452c77ee7abb86e508fc0f6edd5
SEQUENCE:0
LAST-MODIFIED:20091217T225946Z
SUMMARY:Гражданская панихида памяти Егора Гайдара в Петербурге
DESCRIPTION:19 декабря 2009 года общественност
 ь Санкт-Петербурга проводит траурную 
 ражданскую панихиду памяти Егора Тим
 ровича\, которая состоится в 12 часов н
  площади имени А.Д.Сахарова\, в 15 часов 
 продолжится в коференц-зале Европейск
 ого университета в Санкт-Петербурге.
LOCATION:В.О.\, пл. А.Д.Сахарова\; Гагаринская\, 3 ЕУСПб
PRIORITY:3
TRANSP:0
END:VEVENT
END:VCALENDAR
