BEGIN:VCALENDAR
PRODID:-//AT Content Types//AT Event//EN
VERSION:2.0
METHOD:PUBLISH
BEGIN:VEVENT
DTSTAMP:20260422T075357Z
CREATED:20091117T092225Z
UID:ATEvent-c84ab755f18dd44b687e320f10c0622f
LAST-MODIFIED:20091117T092324Z
SUMMARY:Форум «Социальный Петербург: новые решения. 2009»
DTSTART:20091130T070000Z
DTEND:20091130T150000Z
DESCRIPTION:30 ноября НКО обсудят итоги "криз
 исного" 2009 года. В фокусе обсуждений - н
 овые задачи\, новый опыт\, изменения в з
 аконодательстве и перспективы развит
 я петербургского третьего сектора
LOCATION:Василеостровский дом молодежи\, Большой пр. В.О.\, д. 65
CATEGORIES:top, НГО
CONTACT:Вера  Свиридова\, pr-менеджер Центра РНО\, 718-3794 \, 8921 795 12 94\, vera@crno.ru
URL:http://www.soc-spb.ru
CLASS:PUBLIC
END:VEVENT
END:VCALENDAR
