BEGIN:VCALENDAR
PRODID:-//AT Content Types//AT Event//EN
VERSION:2.0
METHOD:PUBLISH
BEGIN:VEVENT
DTSTAMP:20260420T011433Z
CREATED:20091022T211922Z
UID:ATEvent-d2a3d11d4e6a98df9de3a4e5db72d0d9
LAST-MODIFIED:20091022T212250Z
SUMMARY:Флешмоб в Международный День Климатических Действий
DTSTART:20091024T120000Z
DTEND:20091024T121500Z
DESCRIPTION:24 октября\, в единый День Климат
 ческих Действий  петербургское общес
 венное движение «Мусора.Больше.Нет» и
  другие экологические организации и д
 ижения проводят одну из 2000 акций в защ
 иту планеты от углекислоты.
LOCATION:Мега Парнас
CATEGORIES:протесты, креатив, гражданское общество, права, экология, требования
CONTACT:Денис Старк\, + 7 921 300 54 72\, stark@mail.ru
CLASS:PUBLIC
END:VEVENT
END:VCALENDAR
