BEGIN:VCALENDAR
PRODID:-//AT Content Types//AT Event//EN
VERSION:2.0
METHOD:PUBLISH
BEGIN:VEVENT
DTSTAMP:20260422T040332Z
CREATED:20091130T193347Z
UID:ATEvent-12b1752b1b82eb9f9a8cd57c6a5e00e0
LAST-MODIFIED:20091130T193655Z
SUMMARY:Экспертный семинар «Профсоюзное движение в Петербурге»
DTSTART:20091205T124500Z
DTEND:20091205T150000Z
DESCRIPTION:Центр содействия демократии и п
 равам человека «Геликс» в рамках прое
 та "Межрегиональная электоральная се
 ь поддержки" (МЭСП / IRENA) приглашает на 
 ероприятия из цикла «Петербургская п
 литика».
LOCATION:Лиговский проспект\, д. 10\, Гостиница «Октябрьская»\, Каминный холл\, 5 этаж
CATEGORIES:гражданское общество
CONTACT:(812) 449 13 27\; +7 (962) 707 88 21 \, info@irena.org.ru
URL:http://www.irena.org.ru/
CLASS:PUBLIC
END:VEVENT
END:VCALENDAR
