BEGIN:VCALENDAR
PRODID:-//AT Content Types//AT Event//EN
VERSION:2.0
METHOD:PUBLISH
BEGIN:VEVENT
DTSTAMP:20260419T213802Z
CREATED:20100623T103525Z
UID:ATEvent-38e7f2af6e8768a0a516e6640025bd96
LAST-MODIFIED:20100623T103751Z
SUMMARY:Экологический фестиваль «Голоса за животных»
DTSTART:20100703T090000Z
DTEND:20100703T103000Z
DESCRIPTION:«Голоса за животных» – это став
 ший уже ежегодным независимый экологи
 ческий\, информационно-просветительск
 ий\, межрегиональный фестиваль\, целью 
 которого является распространение ид
 й защиты природы и животных. В этом го
 у фестиваль состоится в третий раз.
LOCATION:Лисий Нос
CATEGORIES:животные в городе, экология
CLASS:PUBLIC
END:VEVENT
END:VCALENDAR
