BEGIN:VCALENDAR
PRODID:-//AT Content Types//AT Event//EN
VERSION:1.0
BEGIN:VEVENT
DTSTART:20100131T070000Z
DTEND:20100131T150000Z
DCREATED:20100128T142009Z
UID:ATEvent-609aa62a6f55419fe9856e0d81e0ad81
SEQUENCE:0
LAST-MODIFIED:20100128T142140Z
SUMMARY:Экологи бьют тревогу: Россия не свалка для ядерных отходов из Европы!
DESCRIPTION:В воскресенье\, 31 января 2010\, око
 о полудня\, к Кронштадту подойдет судн
 о «Капитан Куроптев» (Северное морско
  пароходство\, Архангельск) с 650 тонн ф
 анцузских ядерных отходов. Эти отходы
  будут перегружены в вагоны и отправле
 ны по железной дороге в Томскую област
 ь...
LOCATION:Морской порт Санкт-Петербурга
PRIORITY:3
TRANSP:0
END:VEVENT
END:VCALENDAR
