BEGIN:VCALENDAR
PRODID:-//AT Content Types//AT Event//EN
VERSION:2.0
METHOD:PUBLISH
BEGIN:VEVENT
DTSTAMP:20260419T163222Z
CREATED:20100817T115341Z
UID:ATEvent-0bc7775c2a7921e53caa03384ee296e9
LAST-MODIFIED:20100817T133105Z
SUMMARY:Движение пострадавших от протечек
DTSTART:20100818T090000Z
DTEND:20100818T103000Z
DESCRIPTION:После экстремальной зимы со мно
 жеством протечек в пробитых крышах В П
 етербурге жителей пострадавших кварт
 р и домов из разных районов объединил
 сь в защите своих прав и своих жилищ. З
 автра они расскажут о своих совместны
  действиях в Институте региональной п
 рессы.
LOCATION:Институт Региональной прессы (Петербург\, Лиговский пр.\, д.73\, бизнес-центр "Лиговка"\, офис 314)
CLASS:PUBLIC
END:VEVENT
END:VCALENDAR
