BEGIN:VCALENDAR
PRODID:-//AT Content Types//AT Event//EN
VERSION:2.0
METHOD:PUBLISH
BEGIN:VEVENT
DTSTAMP:20260419T152129Z
CREATED:20090918T120927Z
UID:ATEvent-522014184d4b6ac67e5282dc209eb3be
LAST-MODIFIED:20090918T121002Z
SUMMARY:День героя в "Этажах"
DTSTART:20091005T100000Z
DTEND:20091005T120500Z
DESCRIPTION:Комитет по молодежной политике 
 и взаимодействию с общественными орга
 низациями Санкт-Петербурга и культурн
 ый центр Лофт Проект ЭТАЖИ приглашают 
 все общественные организации Санкт-Пе
 тербурга на специальное событие. Вход 
 в костюмах героев
LOCATION:Лофт проект ЭТАЖИ Лиговский пр.\, 74
CATEGORIES:волонтерство, креатив, НГО
CLASS:PUBLIC
END:VEVENT
END:VCALENDAR
