BEGIN:VCALENDAR
PRODID:-//AT Content Types//AT Event//EN
VERSION:1.0
BEGIN:VEVENT
DTSTART:20090710T130000Z
DTEND:20090710T200000Z
DCREATED:20090627T165938Z
UID:ATEvent-c1dde5a82c03ec885bd590c9140ee40d
SEQUENCE:0
LAST-MODIFIED:20090729T193858Z
SUMMARY:Семинары и лекции в рамках фестиваля "Голоса за животных"
LOCATION:Лиговский 87\, оф.300
PRIORITY:3
TRANSP:0
END:VEVENT
END:VCALENDAR
