BEGIN:VCALENDAR
PRODID:-//AT Content Types//AT Event//EN
VERSION:1.0
BEGIN:VEVENT
DTSTART:20090612T100000Z
DTEND:20090620T192500Z
DCREATED:20090611T153827Z
UID:ATEvent-52fb7155121bf3e9f9d3b87ddb617f24
SEQUENCE:0
LAST-MODIFIED:20090611T153937Z
SUMMARY:Программа Декады будийской культуры
DESCRIPTION:Предварительная программы меро
 приятий декады. Внимание! В программу 
 огут быть внесены изменения
PRIORITY:3
TRANSP:0
END:VEVENT
END:VCALENDAR
