BEGIN:VCALENDAR
PRODID:-//AT Content Types//AT Event//EN
VERSION:2.0
METHOD:PUBLISH
BEGIN:VEVENT
DTSTAMP:20260421T140813Z
CREATED:20090627T165232Z
UID:ATEvent-325bcd88bc8087b0166c7642b11d5b2e
LAST-MODIFIED:20090729T193444Z
SUMMARY:Фестиваль в защиту приютов
DTSTART:20090705T130000Z
DTEND:20090705T205000Z
DESCRIPTION:В рамках фестиваля "Голоса за жи
 вотных"
CATEGORIES:гражданское общество, экология, благотворительность, креатив
URL:http://golosafest.wordpress.com
CLASS:PUBLIC
END:VEVENT
END:VCALENDAR
