BEGIN:VCALENDAR
PRODID:-//AT Content Types//AT Event//EN
VERSION:1.0
BEGIN:VEVENT
DTSTART:20090612T100000Z
DTEND:20090620T200000Z
DCREATED:20090611T152426Z
UID:ATEvent-1d5ca2ff730fa039b7d755735d40c299
SEQUENCE:0
LAST-MODIFIED:20090730T204330Z
SUMMARY:Декада буддийской культуры
DESCRIPTION:12–20 июня 2009 в Санкт-Петербурге 
 ройдет Декада буддийской культуры
PRIORITY:3
TRANSP:0
END:VEVENT
END:VCALENDAR
