BEGIN:VCALENDAR
PRODID:-//AT Content Types//AT Event//EN
VERSION:2.0
METHOD:PUBLISH
BEGIN:VEVENT
DTSTAMP:20260419T153435Z
CREATED:20100611T081513Z
UID:ATEvent-57ba8080d604f73f4f38e6676fcfe1d1
LAST-MODIFIED:20100611T081906Z
SUMMARY:Благотворительный пикник в Павловске
DTSTART:20100626T090000Z
DTEND:20100626T150000Z
DESCRIPTION:26 июня в г.Павловск пройдет гран
 диозный благотворительный пикник: цве
 тные покрывала на траве\, хот-доги\, зре
 лищные прыжки с головокружительной вы
 соты\, живая музыка\, танцы босяком\, ка
 оэйра\, файершоу\, фрисби\, бадминтон\, 
 окс\, нарды и море улыбок – вот то\, что
  ожидает посетителей мероприятия.
LOCATION:Павловск\, см. схему проезда
CATEGORIES:волонтерство, top, дети
CLASS:PUBLIC
END:VEVENT
END:VCALENDAR
