BEGIN:VCALENDAR
PRODID:-//AT Content Types//AT Event//EN
VERSION:1.0
BEGIN:VEVENT
DTSTART:20100904T120000Z
DTEND:20100904T160000Z
DCREATED:20100831T163113Z
UID:ATEvent-52a48b1285496bc6449625747303c118
SEQUENCE:0
LAST-MODIFIED:20100914T074909Z
SUMMARY:Безденежный рынок: Фримаркет 4 сентября
DESCRIPTION:Фримаркет - это рынок без денег\,
  без обмена\, без торговли\; праздник из
 бавления от ненужного или обретения н
 обходимого\; возможность научить и ок
 зать дружескую услугу. Отказывайтесь 
 от привычного круговорота денег и тов
 ров\, заменяйте его свободным передви
 ением вещей!
LOCATION:Лиговский\, 50
PRIORITY:3
TRANSP:0
END:VEVENT
END:VCALENDAR
