BEGIN:VCALENDAR
PRODID:-//AT Content Types//AT Event//EN
VERSION:1.0
BEGIN:VEVENT
DTSTART:20100615T150000Z
DTEND:20100615T180000Z
DCREATED:20100607T073306Z
UID:ATEvent-f08f14c2f64445fa366579cf0bf54a5b
SEQUENCE:0
LAST-MODIFIED:20100607T073327Z
SUMMARY:"Барахолка-Party": распродажа креатива в поддержку летнего отдыха
DESCRIPTION:БОО «Перспективы» устроит 15 июн
 я благотворительную вечеринку: всех н
 равнодушных горожан приглашают приня
 ть в ней участие и таким образом помоч
  собрать средства на организацию летн
 его лагеря для молодых людей с множест
 венными нарушениями.
LOCATION:Кутузова наб.\, 18
PRIORITY:3
TRANSP:0
END:VEVENT
END:VCALENDAR
