BEGIN:VCALENDAR
PRODID:-//AT Content Types//AT Event//EN
VERSION:2.0
METHOD:PUBLISH
BEGIN:VEVENT
DTSTAMP:20260421T095421Z
CREATED:20110209T101303Z
UID:ATEvent-e165c0f41fd4cca352e406af4fa64b8a
LAST-MODIFIED:20110209T101909Z
SUMMARY:«Я - Человек!»: III Олимпиада-тренинг
DTSTART:20110209T095500Z
DTEND:20110319T150000Z
DESCRIPTION:В феврале-марте 2011 года в Петерб
 урге состоится III-я межрегиональная (С
 нкт-Петербург и Ленинградская област
 ) олимпиада-тренинг по правам человек
  и правам ребёнка «Я - Человек!» для уч
 телей и учеников старших классов.
LOCATION:Институт права им. Принца П.Г. Ольденбургского (ул. Старорусская\, 5/3  - угол Новгородской ул. и 8-й Советской ул.\, остановка троллейбуса №10\, автобуса №46 или 20 мин. пешком от ст. метро «пл. Александра Невского» или «Площадь Восстания»)
CATEGORIES:образование, права, креатив
CONTACT:Иванцов Максим Юрьевич - координатор проекта\, +7-951-679-83-81\, lantana6@mail.ru
CLASS:PUBLIC
END:VEVENT
END:VCALENDAR
