BEGIN:VCALENDAR
PRODID:-//AT Content Types//AT Event//EN
VERSION:2.0
METHOD:PUBLISH
BEGIN:VEVENT
DTSTAMP:20260419T152344Z
CREATED:20101128T202141Z
UID:ATEvent-fedf45866c34611049d5a219f909ddb5
LAST-MODIFIED:20101128T203501Z
SUMMARY:«Банк Времени в СПб»
DTSTART:20101129T190000Z
DTEND:20101129T210000Z
DESCRIPTION:29 ноября 2010 Немецко-Русский обм
 н проводит первую информационную вст
 ечу перед открытием в Петербурге "Бан
 а Времени".
LOCATION:Лиговсккий 87\, оф. 300.
CATEGORIES:волонтерство, гражданское общество, креатив, НГО
CONTACT:+7(921)358-21-83
URL:http://obmen.org/meroprijatia/bank_vremeni/
CLASS:PUBLIC
END:VEVENT
END:VCALENDAR
