BEGIN:VCALENDAR
PRODID:-//AT Content Types//AT Event//EN
VERSION:1.0
BEGIN:VEVENT
DTSTART:20100430T130000Z
DTEND:20100430T170000Z
DCREATED:20100419T083819Z
UID:ATEvent-237eeb1b22cfda0f12660c23bfdc17d1
SEQUENCE:0
LAST-MODIFIED:20100428T122051Z
SUMMARY:30 апреля - Монстрация в Петербурге
DESCRIPTION:"Монстрация (от слова демонстра
 ия) — это демонстрация с плакатами пр
 дельно абсурдного содержания. Монстр
 нты не имеют политических целей. Они т
 ребуют необъяснимого и просто самовыр
 ажаются"\, - сообщают организаторы.
LOCATION:Уточняется
PRIORITY:3
TRANSP:0
END:VEVENT
END:VCALENDAR
