BEGIN:VCALENDAR
PRODID:-//AT Content Types//AT Event//EN
VERSION:2.0
METHOD:PUBLISH
BEGIN:VEVENT
DTSTAMP:20260421T124359Z
CREATED:20091216T115117Z
UID:ATEvent-5933794ec8bf8edde1f26a5a82a788e9
LAST-MODIFIED:20091216T115423Z
SUMMARY:20 декабря акция "Хочу домой" : бездомные животные ждут своих хозяев
DTSTART:20091220T090000Z
DTEND:20091220T170000Z
DESCRIPTION:20 декабря с 12 дня до 8 вечера в са
 мом большом выставочном зале Лофт Про
 кта ЭТАЖИ площадью 700 кв.м. в специальн
 о созданных светлых и просторных воль
 рах собаки и кошки будут ждать своих х
 озяев.
LOCATION:Лофт Проект ЭТАЖИ\, Санкт-Петербург\, Лиговский пр.\, 74
CATEGORIES:животные в городе
CLASS:PUBLIC
END:VEVENT
END:VCALENDAR
