BEGIN:VCALENDAR
PRODID:-//AT Content Types//AT Event//EN
VERSION:1.0
BEGIN:VEVENT
DTSTART:20091101T065000Z
DTEND:20091101T205000Z
DCREATED:20091026T070036Z
UID:ATEvent-3249e2992b7213f2fd1ef89a5978aee1
SEQUENCE:0
LAST-MODIFIED:20091026T070320Z
SUMMARY:1 ноября - День вегана
DESCRIPTION:1 ноября отмечается во всём мире
  как Международный день вегана. Активи
 сты Альянса за права животных готовят
 я отметить этот день в Петербурге пок
 зом агитационного фильма
PRIORITY:3
TRANSP:0
END:VEVENT
END:VCALENDAR
