BEGIN:VCALENDAR
PRODID:-//AT Content Types//AT Event//EN
VERSION:2.0
METHOD:PUBLISH
BEGIN:VEVENT
DTSTAMP:20260422T055843Z
CREATED:20091123T203723Z
UID:ATEvent-e6c99cc43508098eac427f09ab7cdff0
LAST-MODIFIED:20091123T203821Z
SUMMARY:Петр Сорокин: "Археология Охта-центра"
DTSTART:20091124T100000Z
DTEND:20091124T120000Z
DESCRIPTION:24 ноября 2009 Петр Сорокин\, руков
 дитель археологической экспедиции ИИ
 МК РАН и Северо-Западного Института На
 следия на территории Охтинского мыса (
 предполагаемого места возведения "Охт
 а-Центра") на пресс-конференции расска
 ет обо всех находках археологов и пер
 петиях их работы.
LOCATION:Пресс-клуб "Зеленая лампа": ЕУ СПб\, ул. Гагаринская\, 3\, второй подъезд
CATEGORIES:власть, протесты, гражданское общество, культура памяти, история, наука, город
CONTACT:Ксения Годес \, +7 (921) 974-68-67
URL:http://www.greenlamp.spb.ru/2009/11/24/%D0%B0%D1%80%D1%85%D0%B5%D0%BE%D0%BB%D0%BE%D0%B3%D0%B8%D1%8F-%D0%BE%D1%85%D1%82%D0%B0-%D1%86%D0%B5%D0%BD%D1%82%D1%80%D0%B0/
CLASS:PUBLIC
END:VEVENT
END:VCALENDAR
