BEGIN:VCALENDAR
PRODID:-//AT Content Types//AT Event//EN
VERSION:1.0
BEGIN:VEVENT
DTSTART:20091127T080000Z
DTEND:20091128T170000Z
DCREATED:20091125T132534Z
UID:ATEvent-3ffd080f3b60b0089b96bb94074ea6b1
SEQUENCE:0
LAST-MODIFIED:20091125T133230Z
SUMMARY:Малые Банные чтения - 2009
DESCRIPTION:27-28 ноября Журнал «Неприкоснове
 нный  запас: дебаты о политике и культу
 ре» (Москва) и Смольный  институт свобо
 дных искусств и наук (Санкт-Петербург) 
 проводят Малые Банные чтения - 2009.
LOCATION:Дворец  Бобринских\, ул. Галерная\, 58/60\, аудитория 103 (кинозал)
PRIORITY:3
TRANSP:0
END:VEVENT
END:VCALENDAR
