BEGIN:VCALENDAR
PRODID:-//AT Content Types//AT Event//EN
VERSION:1.0
BEGIN:VEVENT
DTSTART:20100119T070000Z
DTEND:20100120T110000Z
DCREATED:20100119T021217Z
UID:ATEvent-2ed59f8e03ae010bffec8ecdbfaf6d46
SEQUENCE:0
LAST-MODIFIED:20100119T022350Z
SUMMARY:Ежегодные чтения ЦНСИ
DESCRIPTION:19-20 января состоятся традиционн
 ые ежегодные Чтения Центра независимы
 х социологических\nисследований. Публ
 куем программу чтений.
LOCATION:Лиговский пр.\, д.87\, офис 300\, конференц-зал.
PRIORITY:3
TRANSP:0
END:VEVENT
END:VCALENDAR
