BEGIN:VCALENDAR
PRODID:-//AT Content Types//AT Event//EN
VERSION:2.0
METHOD:PUBLISH
BEGIN:VEVENT
DTSTAMP:20260422T092819Z
CREATED:20091111T090001Z
UID:ATEvent-4e8e2f392efbd32cccf57be4c4e2b76a
LAST-MODIFIED:20091111T090243Z
SUMMARY:Эмиль Паин о культурном разнообразии и толерантности: открытая лекция в ЕУ СПб
DTSTART:20091119T143000Z
DTEND:20091119T160000Z
DESCRIPTION:19 ноября в Белом зале ЕУСПб сост
 оится публичная лекция Эмиля Паина «К
 льтурное разнообразие и толерантност
 ь: новое мышление в глобальном мире».
LOCATION:Белый зал ЕУ СПб: ул. Гагаринская. 3
CATEGORIES:наука, публичные интеллектуалы, образование
CONTACT:579-5751
CLASS:PUBLIC
END:VEVENT
END:VCALENDAR
